BEGIN:VCALENDAR
VERSION:2.0
PRODID:-//AdvocateNT - ECPv6.15.20//NONSGML v1.0//EN
CALSCALE:GREGORIAN
METHOD:PUBLISH
X-ORIGINAL-URL:https://advocatent.au
X-WR-CALDESC:Events for AdvocateNT
REFRESH-INTERVAL;VALUE=DURATION:PT1H
X-Robots-Tag:noindex
X-PUBLISHED-TTL:PT1H
BEGIN:VTIMEZONE
TZID:Australia/Darwin
BEGIN:STANDARD
TZOFFSETFROM:+0930
TZOFFSETTO:+0930
TZNAME:ACST
DTSTART:20250101T000000
END:STANDARD
END:VTIMEZONE
BEGIN:VEVENT
DTSTART;TZID=Australia/Darwin:20260423T100000
DTEND;TZID=Australia/Darwin:20260423T140000
DTSTAMP:20260421T231858
CREATED:20260420T081929Z
LAST-MODIFIED:20260420T083506Z
UID:3229-1776938400-1776952800@advocatent.au
SUMMARY:Territory Care and Support Services
DESCRIPTION:Advocacy NT
URL:https://advocatent.au/event/territory-care-and-support/
LOCATION:Territory Care & Support Meeting\, 794 Stuart Highway\, Berrimah\, Darwin\, Northern Territory\, 0812\, Australia
ATTACH;FMTTYPE=image/png:https://advocatent.au/wp-content/uploads/2026/01/AdvocateNT-Voice-Logo-1.png
END:VEVENT
END:VCALENDAR