BEGIN:VCALENDAR
VERSION:2.0
PRODID:-//AdvocateNT - ECPv6.15.20//NONSGML v1.0//EN
CALSCALE:GREGORIAN
METHOD:PUBLISH
X-ORIGINAL-URL:https://advocatent.au
X-WR-CALDESC:Events for AdvocateNT
REFRESH-INTERVAL;VALUE=DURATION:PT1H
X-Robots-Tag:noindex
X-PUBLISHED-TTL:PT1H
BEGIN:VTIMEZONE
TZID:Australia/Darwin
BEGIN:STANDARD
TZOFFSETFROM:+0930
TZOFFSETTO:+0930
TZNAME:ACST
DTSTART:20250101T000000
END:STANDARD
END:VTIMEZONE
BEGIN:VEVENT
DTSTART;TZID=Australia/Darwin:20260604T100000
DTEND;TZID=Australia/Darwin:20260604T110000
DTSTAMP:20260422T023129
CREATED:20260420T081028Z
LAST-MODIFIED:20260420T081028Z
UID:3227-1780567200-1780570800@advocatent.au
SUMMARY:Adult Safeguarding Network
DESCRIPTION:AdvocateNT Unavailable
URL:https://advocatent.au/event/adult-safeguarding-network/
LOCATION:Queensland
ATTACH;FMTTYPE=image/png:https://advocatent.au/wp-content/uploads/2026/02/DCLS-Logoz.png
END:VEVENT
END:VCALENDAR