BEGIN:VCALENDAR
VERSION:2.0
PRODID:-//AdvocateNT - ECPv6.15.20//NONSGML v1.0//EN
CALSCALE:GREGORIAN
METHOD:PUBLISH
X-WR-CALNAME:AdvocateNT
X-ORIGINAL-URL:https://advocatent.au
X-WR-CALDESC:Events for AdvocateNT
REFRESH-INTERVAL;VALUE=DURATION:PT1H
X-Robots-Tag:noindex
X-PUBLISHED-TTL:PT1H
BEGIN:VTIMEZONE
TZID:Australia/Darwin
BEGIN:STANDARD
TZOFFSETFROM:+0930
TZOFFSETTO:+0930
TZNAME:ACST
DTSTART:20250101T000000
END:STANDARD
END:VTIMEZONE
BEGIN:VEVENT
DTSTART;VALUE=DATE:20260508
DTEND;VALUE=DATE:20260514
DTSTAMP:20260422T152605
CREATED:20260422T035508Z
LAST-MODIFIED:20260422T040954Z
UID:3248-1778198400-1778716799@advocatent.au
SUMMARY:Unavailable
DESCRIPTION:
URL:https://advocatent.au/event/unavailable/
CATEGORIES:AdvocateNT
END:VEVENT
END:VCALENDAR