BEGIN:VCALENDAR
VERSION:2.0
PRODID:-//AdvocateNT - ECPv6.15.20//NONSGML v1.0//EN
CALSCALE:GREGORIAN
METHOD:PUBLISH
X-ORIGINAL-URL:https://advocatent.au
X-WR-CALDESC:Events for AdvocateNT
REFRESH-INTERVAL;VALUE=DURATION:PT1H
X-Robots-Tag:noindex
X-PUBLISHED-TTL:PT1H
BEGIN:VTIMEZONE
TZID:Australia/Darwin
BEGIN:STANDARD
TZOFFSETFROM:+0930
TZOFFSETTO:+0930
TZNAME:ACST
DTSTART:20250101T000000
END:STANDARD
END:VTIMEZONE
BEGIN:VEVENT
DTSTART;TZID=Australia/Darwin:20260514T100000
DTEND;TZID=Australia/Darwin:20260514T120000
DTSTAMP:20260422T010433
CREATED:20260420T074523Z
LAST-MODIFIED:20260420T083222Z
UID:3219-1778752800-1778760000@advocatent.au
SUMMARY:Advocacy Mens Group Meeting
DESCRIPTION:Contact Sanderson Electorate Office for details
URL:https://advocatent.au/event/advocacy-mens-group-meeting/
LOCATION:Sanderson Electorate Office\, North Lakes Shopping Centre\, 1 Links Road\, Marrara 1\, Darwin\, Northern Territory\, 0812\, Australia
CATEGORIES:Darwin Community Legal Service,EAAA
ATTACH;FMTTYPE=image/png:https://advocatent.au/wp-content/uploads/2026/04/Mens-Group.jpg
END:VEVENT
END:VCALENDAR