BEGIN:VCALENDAR
VERSION:2.0
PRODID:-//AdvocateNT - ECPv6.15.20//NONSGML v1.0//EN
CALSCALE:GREGORIAN
METHOD:PUBLISH
X-ORIGINAL-URL:https://advocatent.au
X-WR-CALDESC:Events for AdvocateNT
REFRESH-INTERVAL;VALUE=DURATION:PT1H
X-Robots-Tag:noindex
X-PUBLISHED-TTL:PT1H
BEGIN:VTIMEZONE
TZID:Australia/Darwin
BEGIN:STANDARD
TZOFFSETFROM:+0930
TZOFFSETTO:+0930
TZNAME:ACST
DTSTART:20250101T000000
END:STANDARD
END:VTIMEZONE
BEGIN:VEVENT
DTSTART;TZID=Australia/Darwin:20260514T110000
DTEND;TZID=Australia/Darwin:20260514T140000
DTSTAMP:20260421T232026
CREATED:20260420T074733Z
LAST-MODIFIED:20260420T075609Z
UID:3221-1778756400-1778767200@advocatent.au
SUMMARY:IDA Disability Expo
DESCRIPTION:
URL:https://advocatent.au/event/ida-disability-expo/
LOCATION:Territory Netball Stadium\, 235 Abala Road\,Marrara\, Darwin\, Northern Territory\, 0812\, Australia
CATEGORIES:IDAinc
ATTACH;FMTTYPE=image/jpeg:https://advocatent.au/wp-content/uploads/2026/04/IDA-Expo.jpg
END:VEVENT
END:VCALENDAR