BEGIN:VCALENDAR
VERSION:2.0
PRODID:-//AdvocateNT - ECPv6.15.20//NONSGML v1.0//EN
CALSCALE:GREGORIAN
METHOD:PUBLISH
X-WR-CALNAME:AdvocateNT
X-ORIGINAL-URL:https://advocatent.au
X-WR-CALDESC:Events for AdvocateNT
REFRESH-INTERVAL;VALUE=DURATION:PT1H
X-Robots-Tag:noindex
X-PUBLISHED-TTL:PT1H
BEGIN:VTIMEZONE
TZID:Australia/Darwin
BEGIN:STANDARD
TZOFFSETFROM:+0930
TZOFFSETTO:+0930
TZNAME:ACST
DTSTART:20250101T000000
END:STANDARD
END:VTIMEZONE
BEGIN:VEVENT
DTSTART;VALUE=DATE:20260727
DTEND;VALUE=DATE:20260730
DTSTAMP:20260422T040651
CREATED:20260420T084059Z
LAST-MODIFIED:20260420T084507Z
UID:3239-1785110400-1785369599@advocatent.au
SUMMARY:Elder Abuse Action Australia Conference
DESCRIPTION:The 2026 Australian Elder Abuse Conference will attract a diverse and highly engaged audience. While many will have a personal connection to elder abuse\, others will be employed in the sector and work with people impacted by elder abuse. \n\n\nThe 2026 Australian Elder Abuse Conference is a national gathering of people who care deeply about creating a safer\, more just future for older Australians. It’s a space where bold conversations are welcomed\, living experiences are honoured and collaborative solutions are forged. \nThis conference provides the platform for many voices to be heard. Together\, we’ll challenge harmful norms\, explore new ideas\, and push for real\, lasting change. \nOver three dynamic days\, delegates will connect across sectors\, share knowledge and confront the complex realities of abuse and ageism. From powerful stories to innovative responses\, our agenda is shaped by those at the forefront doing the work\, and those with lived and living experience. \nMore Information
URL:https://advocatent.au/event/elder-abuse-action-australia-conference/
LOCATION:RACV Royal Pines Resort Gold Coast\, Ross Street\, Benowa\, Queensland\, 4217\, Australia
ATTACH;FMTTYPE=image/png:https://advocatent.au/wp-content/uploads/2026/03/EAAA-Conference-2026-Logo.png
END:VEVENT
END:VCALENDAR